{
 "currentVersion": 11.5,
 "cimVersion": "3.5.0",
 "serviceDescription": "This cache was built at sangis using 10.3.1 from the original source files. Do Not RuBuild",
 "mapName": "Layers",
 "description": "",
 "copyrightText": "",
 "supportsDynamicLayers": false,
 "layers": [
  {
   "id": 0,
   "name": "This layer is just here to allow publishing ",
   "parentLayerId": -1,
   "defaultVisibility": false,
   "subLayerIds": null,
   "minScale": 0,
   "maxScale": 0,
   "type": "Feature Layer",
   "geometryType": "esriGeometryPolygon",
   "supportsDynamicLegends": true
  }
 ],
 "tables": [],
 "spatialReference": {
  "wkid": 102646,
  "latestWkid": 2230,
  "xyTolerance": 0.003280833333333333,
  "zTolerance": 0.001,
  "mTolerance": 0.001,
  "falseX": -118608900,
  "falseY": -91259500,
  "xyUnits": 3.597970630767777E7,
  "falseZ": -100000,
  "zUnits": 10000,
  "falseM": -100000,
  "mUnits": 10000
 },
 "singleFusedMapCache": true,
 "tileInfo": {
  "rows": 512,
  "cols": 512,
  "dpi": 96,
  "format": "PNG8",
  "compressionQuality": 0,
  "origin": {
   "x": -118608900,
   "y": 159081600
  },
  "spatialReference": {
   "wkid": 102646,
   "latestWkid": 2230,
   "xyTolerance": 0.00328083333333333,
   "zTolerance": 2.0E-4,
   "mTolerance": 2.0E-4,
   "falseX": -118608900,
   "falseY": -91259500,
   "xyUnits": 3.59797063076778E7,
   "falseZ": -100000,
   "zUnits": 10000,
   "falseM": -100000,
   "mUnits": 10000
  },
  "lods": [
   {
    "level": 0,
    "resolution": 501.55430059809,
    "scale": 577790.554289
   },
   {
    "level": 1,
    "resolution": 250.777150298611,
    "scale": 288895.277144
   },
   {
    "level": 2,
    "resolution": 125.388575149306,
    "scale": 144447.638572
   },
   {
    "level": 3,
    "resolution": 62.6942875746528,
    "scale": 72223.819286
   },
   {
    "level": 4,
    "resolution": 31.3471437873264,
    "scale": 36111.909643
   },
   {
    "level": 5,
    "resolution": 15.6735718940972,
    "scale": 18055.954822
   },
   {
    "level": 6,
    "resolution": 7.83678594704861,
    "scale": 9027.977411
   },
   {
    "level": 7,
    "resolution": 3.91839297309028,
    "scale": 4513.988705
   },
   {
    "level": 8,
    "resolution": 1.95919648697917,
    "scale": 2256.994353
   },
   {
    "level": 9,
    "resolution": 0.979598243055556,
    "scale": 1128.497176
   },
   {
    "level": 10,
    "resolution": 0.489799121527778,
    "scale": 564.248588
   }
  ]
 },
 "storageInfo": {
  "storageFormat": "esriMapCacheStorageModeExploded",
  "packetSize": 0
 },
 "initialExtent": {
  "xmin": 5749633.616803912,
  "ymin": 1778603.6851674123,
  "xmax": 6159745.825177357,
  "ymax": 2325974.5434021517,
  "spatialReference": {
   "wkid": 102646,
   "latestWkid": 2230,
   "xyTolerance": 0.003280833333333333,
   "zTolerance": 0.001,
   "mTolerance": 0.001,
   "falseX": -118608900,
   "falseY": -91259500,
   "xyUnits": 3.597970630767777E7,
   "falseZ": -100000,
   "zUnits": 10000,
   "falseM": -100000,
   "mUnits": 10000
  }
 },
 "fullExtent": {
  "xmin": 6058963.412891569,
  "ymin": 1739237.3726607151,
  "xmax": 6701305.238770326,
  "ymax": 2156629.8884088686,
  "spatialReference": {
   "wkid": 102646,
   "latestWkid": 2230,
   "xyTolerance": 0.003280833333333333,
   "zTolerance": 0.001,
   "mTolerance": 0.001,
   "falseX": -118608900,
   "falseY": -91259500,
   "xyUnits": 3.597970630767777E7,
   "falseZ": -100000,
   "zUnits": 10000,
   "falseM": -100000,
   "mUnits": 10000
  }
 },
 "datesInUnknownTimezone": false,
 "minScale": 577790.554289,
 "maxScale": 4513.988705,
 "units": "esriFeet",
 "supportedImageFormatTypes": "PNG32,PNG24,PNG,JPG,DIB,TIFF,EMF,PS,PDF,GIF,SVG,SVGZ,BMP",
 "documentInfo": {
  "Title": "",
  "Author": "",
  "Comments": "This cache was built at sangis using 10.3.1 from the original source files. Do Not Rebuild, as it is just the cache tiles that exist at the City.",
  "Subject": "2014 Aerial Photo",
  "Category": "",
  "Version": "10.1",
  "AntialiasingMode": "None",
  "TextAntialiasingMode": "Force",
  "Keywords": "imagery"
 },
 "supportsQueryDomains": true,
 "capabilities": "Map,Query,Data",
 "supportedQueryFormats": "JSON, geoJSON, PBF",
 "exportTilesAllowed": false,
 "referenceScale": 0.0,
 "supportsDatumTransformation": true,
 "archivingInfo": {
  "supportsHistoricMoment": false
 },
 "supportsClipping": true,
 "supportsSpatialFilter": true,
 "supportsTimeRelation": true,
 "supportsQueryDataElements": true,
 "mapUnits": {
  "uwkid": 9003
 },
 "maxSelectionCount": 2000,
 "maxRecordCount": 1000,
 "maxImageHeight": 4096,
 "maxImageWidth": 4096,
 "supportedExtensions": "",
 "serviceItemId": "3615f1a13f6e4e91aa1d9d5f62fd75d0"
}
